BEGIN:VCALENDAR
VERSION:2.0
PRODID:SchoolNow
CALSCALE:GREGORIAN
BEGIN:VEVENT
UID:c44d682a-0a5e-11ec-8e8b-0ad344d23739
DTSTAMP:20211014T225417Z
SUMMARY:CDD Board Meeting- Oct. 2021
LOCATION:at the Heritage Isles Golf & Country Club located at 10630 Plantat
 ion Bay Dr\, Tampa FL\, 33647
URL;VALUE=URI:https://www.eastonparkcdd.org/calendar/2696505/cdd-board-meet
 ing-oct-2021
DTSTART:20211021T203000Z
DTEND:20211021T213000Z
ATTACH;FILENAME=2021-10-21 Easton Park CDD Agenda Package.pdf;FMTTYPE=appli
 cation/pdf:https://campussuite-storage.s3.amazonaws.com/prod/1558906/7bb3e
 c64-ea9f-11e9-9c70-0a20d2c7fac4/2329512/96f82b2a-2d41-11ec-96ef-0a8d423d16
 23/file/2021-10-21 Easton Park CDD Agenda Package.pdf
END:VEVENT
END:VCALENDAR
