BEGIN:VCALENDAR
VERSION:2.0
PRODID:SchoolNow
CALSCALE:GREGORIAN
BEGIN:VEVENT
UID:a41010c4-8293-11f0-ab1b-0e8b14fcf377
DTSTAMP:20250826T154507Z
SUMMARY:CDD Board Meeting - Aug. 2026
LOCATION:at the Heritage Isles Golf & Country Club located at 10630 Plantat
 ion Bay Dr\, Tampa FL\, 33647
URL;VALUE=URI:https://www.eastonparkcdd.org/calendar/8545635/cdd-board-meet
 ing-aug-2026
DTSTART:20260820T203000Z
DTEND:20260820T213000Z
END:VEVENT
END:VCALENDAR
